BEGIN:VCALENDAR
VERSION:2.0
PRODID:spatie/icalendar-generator
DESCRIPTION:Events from West Yorkshire Canoe Club
X-WR-CALDESC:Events from West Yorkshire Canoe Club
REFRESH-INTERVAL;VALUE=DURATION:PT1440M
X-PUBLISHED-TTL:PT1440M
BEGIN:VTIMEZONE
TZID:Europe/London
BEGIN:STANDARD
DTSTART:20251026T020000Z
TZOFFSETFROM:+0100
TZOFFSETTO:+0000
END:STANDARD
BEGIN:DAYLIGHT
DTSTART:20260329T010000Z
TZOFFSETFROM:+0000
TZOFFSETTO:+0100
END:DAYLIGHT
BEGIN:STANDARD
DTSTART:20261025T020000Z
TZOFFSETFROM:+0100
TZOFFSETTO:+0000
END:STANDARD
END:VTIMEZONE
BEGIN:VTIMEZONE
TZID:UTC
BEGIN:STANDARD
DTSTART:20250728T222813Z
TZOFFSETFROM:+0000
TZOFFSETTO:+0000
END:STANDARD
END:VTIMEZONE
BEGIN:VEVENT
UID:40-28
DTSTAMP:20260424T222813Z
SUMMARY:Paddlesport Safety &amp;amp\; Rescue Course - 27th June
LOCATION:City of Leeds Sea Cadets Thwaite Lane  Leeds  LS10 1RN
ORGANIZER;CN=Ben:MAILTO:ben@westyorkshirecanoeclub.com
DTSTART;TZID=Europe/London;VALUE=DATE:20260627
DTEND;TZID=Europe/London;VALUE=DATE:20260628
X-ALT-DESC;FMTTYPE=TEXT/HTML:The Paddlesport Safety and Rescue Course aims 
 to provide paddlers with the key safety and rescue skills required to oper
 ate safely and to be able to deal with common problems in a sheltered wate
 r environment. The course is designed for all paddlers irrespective of the
 ir chosen craft. The objective is to introduce\, explore and practice&amp;hell
 ip\;
CATEGORIES:General
URL;VALUE=URI:https://westyorkshirecanoeclub.com/mc-events/paddlesport-safe
 ty-rescue-course-27th-june/
METHOD:PUBLISH
END:VEVENT
END:VCALENDAR